BEGIN:VCALENDAR
VERSION:2.0
PRODID:-//The Greater Vegas Republican Club - Home of Patriots and Cocktails! - ECPv6.15.20//NONSGML v1.0//EN
CALSCALE:GREGORIAN
METHOD:PUBLISH
X-WR-CALNAME:The Greater Vegas Republican Club - Home of Patriots and Cocktails!
X-ORIGINAL-URL:https://greatervegasrepublicans.com
X-WR-CALDESC:Events for The Greater Vegas Republican Club - Home of Patriots and Cocktails!
REFRESH-INTERVAL;VALUE=DURATION:PT1H
X-Robots-Tag:noindex
X-PUBLISHED-TTL:PT1H
BEGIN:VTIMEZONE
TZID:UTC
BEGIN:STANDARD
TZOFFSETFROM:+0000
TZOFFSETTO:+0000
TZNAME:UTC
DTSTART:20210101T000000
END:STANDARD
END:VTIMEZONE
BEGIN:VEVENT
DTSTART;TZID=UTC:20220704T180000
DTEND;TZID=UTC:20220704T230000
DTSTAMP:20260425T025421
CREATED:20220621T205446Z
LAST-MODIFIED:20220621T210944Z
UID:147-1656957600-1656975600@greatervegasrepublicans.com
SUMMARY:Fourth of July Celebration
DESCRIPTION:Hello Conservative Patriots! Let’s celebrate July 4th at the Las Vegas Strip with food and drinks — but without the usual crowds. As many of you already know\, the Ahern Hotel is a boutique property just steps from the Strip\, offering outstanding views of the fireworks show – and they’re playing host to the celebration! \nEnjoy food and drink specials from the comfort of the Center Bar. Play games like Cornhole\, Beer Pong\, Giant Jenga or Giant Connect Four while you listen to music and sip on American beers and red\, white and blue mixed drinks— all priced to help celebrate the occasion. \n\nPatrons can head up to the roof of the parking garage to view the 11:00 fireworks as they’re launched from multiple Strip hotels\, including the neighboring Strat. Come party with us and make it a night to remember at Ahern Hotel. \n\nBy the way\, Don Ahern is a true Las Vegas Patriot; our group loves to support his business. If you haven’t been to the Ahern before\, it has wonderful food\, super easy/free parking\, and none of the typical strip chaos. \nLet’s meet inside by the center bar (on the main level) for an American-themed drink\, and those that want to stay later can watch the fireworks from the rooftop. Look forward to seeing you there! (more details on Facebook here)
URL:https://greatervegasrepublicans.com/event/fourth-of-july-celebration/
LOCATION:Ahern Hotel\, 300 W Sahara Avenue\, Las Vegas\, NV\, 89102\, United States
ATTACH;FMTTYPE=image/jpeg:https://greatervegasrepublicans.com/wp-content/uploads/2022/06/ahern4thbash.jpg
ORGANIZER;CN="Ahern":MAILTO:info@greatervegasrepublicans.com
END:VEVENT
END:VCALENDAR