BEGIN:VCALENDAR
VERSION:2.0
PRODID:-//The Greater Vegas Republican Club - Home of Patriots and Cocktails! - ECPv6.15.20//NONSGML v1.0//EN
CALSCALE:GREGORIAN
METHOD:PUBLISH
X-ORIGINAL-URL:https://greatervegasrepublicans.com
X-WR-CALDESC:Events for The Greater Vegas Republican Club - Home of Patriots and Cocktails!
REFRESH-INTERVAL;VALUE=DURATION:PT1H
X-Robots-Tag:noindex
X-PUBLISHED-TTL:PT1H
BEGIN:VTIMEZONE
TZID:UTC
BEGIN:STANDARD
TZOFFSETFROM:+0000
TZOFFSETTO:+0000
TZNAME:UTC
DTSTART:20230101T000000
END:STANDARD
END:VTIMEZONE
BEGIN:VEVENT
DTSTART;TZID=UTC:20240711T170000
DTEND;TZID=UTC:20240711T200000
DTSTAMP:20260425T104621
CREATED:20240626T202626Z
LAST-MODIFIED:20240626T202817Z
UID:224-1720717200-1720728000@greatervegasrepublicans.com
SUMMARY:Patriots and Cocktails - Winners Only
DESCRIPTION:Did you vote in the June 11th primary? Of course you did\, you’re a winner\, right? But did your candidate win? That may be a different story. Nonetheless\, it’s time again for another very special “Patriots and Cocktails” happy hour where we’ll have a number of primary winners in attendance to talk about what YOU can do between now and November to help these winners defeat the despicable democrats in the general election! \nMark down Thursday\, July 11th\, 2024 on your calendar. As usual\, we have reserved the “Locker Room” at Sierra Gold Bar from 5-8:00pm with all the Happy Hour prices on food and drink. So come hungry and thirsty and meet the winners that will make your life here in Las Vegas better once they get elected! \nSierra Gold Bar is located at 2400 N. Buffalo Dr\, Ste 125\, Las Vegas\, NV 89128 and can be reached at (702) 724-7004 if you run into any problems. \nDon’t sit on the sidelines. Be a winner! Show up and listen to what your fellow winners have to say. And don’t forget to bring a conservative friend (or friends) to increase the “winnership” in the room as well as help grow the group! Thanks!
URL:https://greatervegasrepublicans.com/event/patriots-and-cocktails-winners-only/
LOCATION:Sierra Gold Bar\, 2400 N Buffalo Dr Ste 125\, Las Vegas\, Nevada\, 89128
CATEGORIES:Patriots and Cocktails
ATTACH;FMTTYPE=image/jpeg:https://greatervegasrepublicans.com/wp-content/uploads/2024/06/lvap7.jpg
END:VEVENT
END:VCALENDAR