BEGIN:VCALENDAR
VERSION:2.0
PRODID:-//The Greater Vegas Republican Club - Home of Patriots and Cocktails! - ECPv6.15.20//NONSGML v1.0//EN
CALSCALE:GREGORIAN
METHOD:PUBLISH
X-WR-CALNAME:The Greater Vegas Republican Club - Home of Patriots and Cocktails!
X-ORIGINAL-URL:https://greatervegasrepublicans.com
X-WR-CALDESC:Events for The Greater Vegas Republican Club - Home of Patriots and Cocktails!
REFRESH-INTERVAL;VALUE=DURATION:PT1H
X-Robots-Tag:noindex
X-PUBLISHED-TTL:PT1H
BEGIN:VTIMEZONE
TZID:UTC
BEGIN:STANDARD
TZOFFSETFROM:+0000
TZOFFSETTO:+0000
TZNAME:UTC
DTSTART:20210101T000000
END:STANDARD
END:VTIMEZONE
BEGIN:VEVENT
DTSTART;TZID=UTC:20220503T180000
DTEND;TZID=UTC:20220503T210000
DTSTAMP:20260424T064003
CREATED:20220426T214427Z
LAST-MODIFIED:20220426T214427Z
UID:140-1651600800-1651611600@greatervegasrepublicans.com
SUMMARY:Gilbert for Governor Freedom Night Meet & Greet Fundraiser - Las Vegas\, NV
DESCRIPTION:Join us for a wonderful night of LIVE Music\, meet & greet and fundraising for Joey Gilbert for Nevada Governor!\n\nHosted by: The Sassoon Family\nMC & Host: Wayne Allyn Root\nFeaturing:\n– Bianca Gracia and The Latinos for America First\n– Mindy Robinson\nLIVE Music by: The Smooth Sounds of J&D.\n\nThe first 250 people will be able to enjoy a sit down dinner with Joey Gilbert & Friends. Seating is first come first serve with priority seating for those who have contributed to Joey Gilbert for this event.\n \nDoors will open at 5:30 pm.\nEvent begins at 6:00 pm.\n \nSuggested contribution of $18.64\, $100\, $250\, $500\, $1\,000 per person.\n 
URL:https://greatervegasrepublicans.com/event/gilbert-for-governor-freedom-night-meet-greet-fundraiser-las-vegas-nv/
LOCATION:Ahern Hotel\, 300 W Sahara Avenue\, Las Vegas\, NV\, 89102\, United States
ATTACH;FMTTYPE=image/jpeg:https://greatervegasrepublicans.com/wp-content/uploads/2022/04/joeygilbert.jpg
ORGANIZER;CN="Sarah":MAILTO:info@greatervegasrepublicans.com
END:VEVENT
END:VCALENDAR